BEGIN:VCALENDAR
VERSION:2.0
PRODID:-//でんぱ組.inc 公式サイト - ECPv4.5.13//NONSGML v1.0//EN
CALSCALE:GREGORIAN
METHOD:PUBLISH
X-WR-CALNAME:でんぱ組.inc 公式サイト
X-ORIGINAL-URL:https://dempagumi.tokyo
X-WR-CALDESC:Events for でんぱ組.inc 公式サイト
BEGIN:VEVENT
DTSTART;VALUE=DATE:20200315
DTEND;VALUE=DATE:20200405
DTSTAMP:20260423T123311
CREATED:20200305T032836Z
LAST-MODIFIED:20200404T053340Z
UID:9166-1584230400-1586131199@dempagumi.tokyo
SUMMARY:ねもぺろ写真展「エヌ/ピー」by ZOOMIN graph
DESCRIPTION: \n \n  \n▼イベントタイトル\nねもぺろ写真展「エヌ/ピー」 \n  \n▼会場\nAWAJI Cafe and Gallery\n（住所：東京都千代田区神田淡路町2-4-6 エフアンドエフロイヤルビル1F） \n  \n▼開催日 \n2020年3月15日 (日) 〜 3月29日 (日)   →4月5日 (日)（※3月26日更新） \n入場無料 \n  \n▼営業時間\n3月15日(日)〜4月3日(金)  12:00〜20:00 （L.O.19:30） \n4月4日(土) 12:00〜16:00 (L.O. 15:30) （※4月3日更新） \n4月5日(日) 12:00〜18:00 (L.O.17:30) \n\n\n\n\n※3/15(日）初日のみ、多数の来場者の見込みのためご予約制とさせていただきます。\n大変恐れ入りますが、受付URLよりご予約の上、指定の時間内にご来場くださいませ。\n入場時間から30分過ぎた場合、ご入場いただけない場合がございますので遅れないようにご注意ください。 \n１部　12:00入場 / 13:00 退場\n２部　12:30入場 / 13:30 退場\n３部　13:00入場 / 14:00 退場\n４部　13:30入場 / 14:30 退場\n５部　15:00入場 / 16:00 退場\n６部　15:30入場 / 16:30 退場\n７部　16:00入場 / 17:00 退場\n８部　16:30入場 / 17:30 退場\n\n\n17:30 以降入場フリー \n【初日優先入場(無料)予約受付開始】2020年3月11日（水）19:00〜 \n\n【受付URL】https://t.livepocket.jp/e/nemoperocafe \n  \n▼グッズ　\n★2020年3月15日 (日) 12:00〜 ディアステージオンラインストアにて同時販売開始 \n \n\n\n \n\n \n\n\n【会場展示品アクリルパネルの販売(※一部展示品を除く）についてのお知らせ】（※3/25追記）\n新型コロナウイルスの感染状況とお客様の健康・安全を最優先し、また会場の混雑緩和のため、急遽ECサイトでの受注販売が決定しました。なお、受注受付は会場予約販売に先駆けて開始します。 \n\n\n\n  \n【3月28日、29日のAWAJI Cafe and Gallery営業休止と展示品アクリルパネル会場予約販売日時変更、オンライン受注販売期間延長についてのお知らせ】（※3/26追記） \n新型コロナウイルス感染症の状況と東京都の外出自粛要請をうけ3月28日、29日のAWAJI Cafe and Galleryの営業を休止させていただきます。\nまた、ねもぺろ写真展「エヌ/ピー」の開催期間を\n4月5日(日)まで延長させていただくことが決定しました。\n3月28日(土)\,29日(日)に予定しておりました展示品アクリルパネルの会場予約販売(※一部展示品を除く）については、AWAJI Cafe and Galleryの営業休止に伴い、販売開始日時を4月4日(土)\,5日(日)12:00〜へ変更とさせていただきます。オンライン受注販売受付期間に関しましてもイベント開催期間延長に合わせて4月5日(日)までとさせていただきます。何卒ご理解の程よろしくお願い申し上げます。 \n  \n【オンライン受注販売】 \n\n\n\n販売開始日時：2020年3月27日 (金) 21:00〜4月5日 (日) 23:59\n販売URL：https://store.dearstage.com/shopbrand/nemopero/ \n  \n【会場販売】\n販売日時：2020年3月28日 (土)\,29日 (日)    →2020年4月4日 (土)\, 5日 (日)  12:00〜 （※3/26更新）\n販売価格：金額:8\,000円〜42\,000円（※詳しい金額については会場にてご確認ください）\n※会場販売では別途送料(1\,000円)を頂戴致します。 \n  \n<注意事項>\n・会場販売分(展示品)は先着順、お一人様1点まで\n・会場受付分は展示品のため展示用に穴が空いております。\n・会場受付分は展示物のため、汚れや傷、へこみ等の外傷がある場合があります。\nこれらの外傷による理由での返品、返金には一切応じられませんので、あらかじめご理解・ご了承ください。\n・発送時期は4月下旬以降を予定しております。 \n\n  \n▼アーティスト\n・鹿目 凛 (でんぱ組.inc) \nTwitter：  @peroperorinko01 \nInstagram：kaname_rin \n  \n・根本 凪 (でんぱ組.inc / 虹のコンキスタドール) \nTwitter： @nemoto_nagi \nInstagram：nemonagi \n  \n・ZOOMIN graph \nフォトグラファー\n映像監督ZUMIとしてMV演出を手がける傍ら2018年よりZOOMIN graph名義で写真家活動をスタート。写真・動画・アートワーク・イラストなど多岐に渡る表現方法でエンターテインメント性の高い作品を制作している。作品展示は今回が初となる。 \nhttps://www.z-cup.net/ \nInstagram：zoomin.graph \n\n\n\n\n
URL:https://dempagumi.tokyo/event/np_event_info/
CATEGORIES:Event
END:VEVENT
BEGIN:VEVENT
DTSTART;VALUE=DATE:20200324
DTEND;VALUE=DATE:20200324
DTSTAMP:20260423T123311
CREATED:20200319T040039Z
LAST-MODIFIED:20200319T040039Z
UID:9391-1585008000-1585094399@dempagumi.tokyo
SUMMARY:ねもぺろ from でんぱ組.inc 1st Single「しゅきしゅきしゅきぴ♡がとまらないっ…！」 発売記念インターネットサイン会
DESCRIPTION: \nねもぺろ from でんぱ組.inc 1st Single「しゅきしゅきしゅきぴ♡がとまらないっ…！」の発売を記念してインターネットサイン会を実施致します。リミスタにてご予約いただいたお客様に、生配信であなたのためにサインを書いてお届けします！この機会、お見逃しなく是非ご参加ください！ \n  \n▼開催日時\n2020年3月24日 (火) 17:00～ \n  \n▼購入者特典\n対象商品をご予約のお客様に[サイン・ニックネーム・日付]を“CDジャケット”にお書きして、商品と一緒にお届け！ \n※CDジャケットは通常盤になります。 \n当日は、サインを書いている模様を生配信！生配信中に購入者のニックネームをお呼び致します！！ \n（アーカイブ配信もありますので、リアルタイムにご覧いただけなくてもOKです。）YouTubeアカウントをお持ちの方は、チャットにご参加いただけます！沢山のメッセージ、ご質問、お待ちしております！ \n※配信はリミスタYouTube Liveとなります。 \n  \nチャンネルはこちら \n※詳細情報は、公式Twitterよりお知らせします。 \n※配信はアーティスト新着情報↑と、アイテム下でもご覧頂けます。 \n  \n【対象商品】\n2020年3月25日発売  ねもぺろ from でんぱ組.inc 1st Single 「しゅきしゅきしゅきぴ♡がとまらないっ…！」 \n初回限定盤（CD+DVD）TFCP-89680　2\,000円（税込） \n通常盤（CD）TFCP-89681　1\,200円（税込） \n  \n▼レギュレーション\n・根本凪  CDジャケット サイン \nねもぺろ from でんぱ組.inc「しゅきしゅきしゅきぴ♡がとまらないっ…！」 \n初回限定盤＋通常盤  各1枚セット 税込 3\,200円 \n※サインは通常盤にお書きします。 \n  \n・鹿目凛   CDジャケット サイン \nねもぺろ from でんぱ組.inc「しゅきしゅきしゅきぴ♡がとまらないっ…！」 \n初回限定盤＋通常盤 各1枚セット　税込 3\,200円 \n※サインは通常盤にお書きします。 \n  \n・ねもぺろ  CDジャケット サイン \nねもぺろ from でんぱ組.inc「しゅきしゅきしゅきぴ♡がとまらないっ…！」 \n初回限定盤＋通常盤 各２枚セット  税込 6\,400円 \n※CDジャケットに根本凪と鹿目凛２人のサインが入ります。ニックネームを記入するメンバーは指定できません。 \n※サインは通常盤にお書きします。 \n  \n▼販売期間\n2020年3月20日 (金・祝) 11:00～3月24日 (月) 配信途中まで \n※受付上限数に達した場合、販売期間内であっても販売を終了させて頂くことがございます。 \n受付URL：https://limista.jp/detail-project.php?p_no=636  \n※１会計につき、各特典はお一人様1つまでのご購入となります。最大３つ（根本凪サイン、鹿目凛サイン、ねもぺろサイン）ご購入可能です。 \n※お支払いはバーチャル銀行振込とクレジットカード決済をお選びいただけます。 \n※バーチャル銀行銀行振り込み受付・支払期限 3/23(月)13:00購入受付終了、翌日24(火)15時までにお振込ください。 \n※バーチャル銀行お支払い期限はお申込日の翌日15:00までです。 \n※バーチャル銀行「振込みのご案内」メール記載のお支払期限を過ぎますとお振込み出来なくなりますのでご留意ください。 \n※土日にお振込みされても、お客様のお使いの銀行によってはお支払い期限までに入金が反映されず、キャンセルとなる可能性がございます。詳しくはお使いの銀行までお問い合わせください。 \n※ご注文後、期限までにご入金が確認できない場合、キャンセル扱いとなりますのでご了承ください。\n※お振込人名は必ず、お申し込みされた方の本名の記入をお願いします。 \n※一度の会計ごとに、梱包発送料（￥990）がかかります（離島別途追加）。 \n※販売終了時間は、予告なく前後する可能性がございます。ご了承ください。 \n※リミスタへの会員登録（無料）を推奨致します。 \n※コンビニ決済はご利用いただけません。 \n※サイン実施は事前にご入金をお済ませ頂いたお客様を対象とします。 \n※商品・特典は順次発送となります。 \n  \n▼購入特典\n・１セットご購入ごとに、特典がひとつ付きます。 \n・特典はご注文ごとに確定いたします。 \n・特典はCDジャケット(通常盤)1枚にサイン、ニックネーム、日付をお書き致します。 \n※購入時にご登録いただく「ニックネーム（10文字まで）」がサイン時に記入させて頂くものです。 \n※複数購入の場合のニックネームはひとつ（共通）とさせて頂きます。 \n※ニックネームの登録は、絵文字、顔文字、特殊な文字や記号（♡＆）などは文字化けになりますので禁止いたします。 \n※ニックネームは10文字制限がございます、また不適切な内容など、適宜判断し、調整する場合がございます。 \n※ニックネームのフリガナは商品追加後のカートにございます、メッセージ記入欄にお願い致します。 \n※海外への発送は行っておりません。 \n  \n▼カード決済の注意点\nカード有効期限の月／年を逆に入力されたり、セキュリティーコードの入力間違えなどがエラーとなるケースが多く発生しております。 \nまた、決済ボタンをクリックしてから処理までに少々お時間がかかる場合がございます、その間に画面を閉じたり、移動したりしますとエラーとなる場合がございます。 \n決済が正常に完了しますと、「プロジェクトの支援が完了しました。」と表示され、同時にメールが送信されますので、必ずご確認をお願い申し上げます。 \n  \n※※ご購入前のリミスタ会員登録をオススメいたします。※※\n事前にリミスタ会員登録をしていただくことで、ご注文時のお手続きをスムーズに行って頂けます。\nリミスタからのメール「support@limista.jp 」が受信できる様、設定をご確認ください（PCメール推奨）携帯などのドメイン指定、拒否設定などでお問い合わせの回答メール含め、届かない事例が多数発生しております。また、迷惑メールフォルダの確認も併せてお願い致します。​​​​​​​特にezwebをご利用の方はご注意願います。 \n  \n※購入方法はこちらをご参考ください \nhttps://limista.jp/faq.php \n
URL:https://dempagumi.tokyo/event/nemopero_0324_event_info/
CATEGORIES:Event
END:VEVENT
END:VCALENDAR