BEGIN:VCALENDAR
VERSION:2.0
PRODID:-//でんぱ組.inc 公式サイト - ECPv4.5.13//NONSGML v1.0//EN
CALSCALE:GREGORIAN
METHOD:PUBLISH
X-WR-CALNAME:でんぱ組.inc 公式サイト
X-ORIGINAL-URL:https://dempagumi.tokyo
X-WR-CALDESC:Events for でんぱ組.inc 公式サイト
BEGIN:VEVENT
DTSTART;VALUE=DATE:20180331
DTEND;VALUE=DATE:20180331
DTSTAMP:20260426T010554
CREATED:20180321T090020Z
LAST-MODIFIED:20180321T023534Z
UID:2954-1522454400-1522540799@dempagumi.tokyo
SUMMARY:夢眠ねむ「TOKYO PV CONVENTION 2018」
DESCRIPTION:『夢眠ねむ』＋「スミス」＝映像制作ユニット『スミネム』が3/31に新宿ロフトプラスワンで開催の「TOKYO PV CONVENTION 2018」へ出演‼\nこのイベントは話題のミュージックビデオディレクターによるトークイベントとなっており『スミネム』をはじめとした話題作を作り続けている8名の映像作家陣が登場します🎶\n「CONVENTION（会議）」と銘打ったゲスト同士のトークセッションは、ミュージックビデオが好きな人はもちろん、音楽が好きな人、映像作品に興味がある人も必聴のものとなっていますので是非この機会にご来場ください📣お楽しみに🍀 \n▼開催\n3/31（土）\n会場 18:00 / 開演 18:45 \n▼会場\n新宿ロフトプラスワン\n〒160-0021 新宿区歌舞伎町1-14-7林ビルB2\nhttp://www.loft-prj.co.jp/PLUSONE/ \n▼料金\n2000円（＋1オーダー以上） \n▼チケット\n・イープラス\nhttp://eplus.jp/sys/T1U14P0010843P006001P002252705P0030001\n\n▼イベントサイト\nhttp://tokyo-pv-collection.com/ \n
URL:https://dempagumi.tokyo/event/2018-03-31-nemu/
CATEGORIES:Event
END:VEVENT
END:VCALENDAR