BEGIN:VCALENDAR
VERSION:2.0
PRODID:-//でんぱ組.inc 公式サイト - ECPv4.5.13//NONSGML v1.0//EN
CALSCALE:GREGORIAN
METHOD:PUBLISH
X-WR-CALNAME:でんぱ組.inc 公式サイト
X-ORIGINAL-URL:https://dempagumi.tokyo
X-WR-CALDESC:Events for でんぱ組.inc 公式サイト
BEGIN:VEVENT
DTSTART;VALUE=DATE:20180306
DTEND;VALUE=DATE:20180311
DTSTAMP:20260424T214918
CREATED:20180227T111353Z
LAST-MODIFIED:20180310T152624Z
UID:2746-1520294400-1520812799@dempagumi.tokyo
SUMMARY:藤咲彩音「Pzzzミュージアム＆カフェ」
DESCRIPTION:コンセプトカフェ『Pzzzミュージアム＆カフェ』を原宿のSPINNS CAFEにて3/6-11の期間限定で原宿にあるSPINNS CAFEにてOPEN🌟 \n \n新作のアイテム販売はもちろん、Pzzzミュージアム＆カフェ限定アイテムの販売、さらにこれまでのコレクションアイテムも実際にお手に取ってお買い求めいただけます。またカフェではお馴染みのオリジナルのパンダのキャラクター『pnz（パンズ）』をモチーフとしたカフェメニューを展開🍴\nさらに『Pzzzミュージアム＆カフェ』の最終日となる3/11（日）には『藤咲彩音』スペシャルトークショーを開催と盛り沢山🎶 \n▼Pzzzミュージアム＆カフェカフェメニュー\n・PNZオムライス￥1\,280（税込）\n・PNZパンケーキ￥1\,080（税込）\n・Pzzzゼリーソーダ￥700（税込）\n・PNZコットンキャンディーソーダ￥860(税込)\nカフェコラボメニューをご注文の方には、オリジナルコースターを１枚プレゼント！\n※ランダムで1枚配布いたします。\n※絵柄はお選び頂けませんので、予めご了承ください。\n \n \n▼Pzzzミュージアム＆カフェ限定販売アイテム\nナイロンジャケット（￥6\,500+税）\n[COLOR]ネイビー／ホワイト\n \n▼Pzzzミュージアム＆カフェ購入特典くじ\nPzzzアパレルアイテム￥3000（税込）以上をご購入のレシートと、Pzzzカフェメニュー￥1000（税込）以上ご注文頂いたレシートの両方をご提示で、くじを1回お引き頂けます🌈なんと1等の当選者はスペシャルトークショーにご参加頂けます💕\n＜1等＞\nピンキー！来店 スペシャルトークショーイベント参加券\n[開催]3/11（日）12:30～13:30（予定）\n[会場]SPINNS CAFE\n＜2等＞\nPzzz着用ピンキー！撮りおろしチェキ\n＜3等＞\nPzzz歴代ビジュアルA2サイズポスター（※デザインはお選びいただけません。） \n▼Pzzzミュージアム＆カフェ限定 購入割引\n2016SUMMER～2017WINTERコレクションのアイテム限定で、Pzzzミュージアム＆カフェにて、アイテムを2点以上ご購入いただくと、30％OFFでご購入いただけます。 \n▼Pzzzミュージアム＆カフェ\n＜期間＞\n2018年3月6日(火)～2018年3月11日(日)\n各日 11:00～20:00 (ラストオーダー 19：40)\n※最終日3月11日はイベント開催につき14:00～20:00\n＜場所＞\n〒150-0001\n東京都渋谷区神宮前1-15-2 神宮前115ビル 3F\n \n▼PzzzオフィシャルTwitter\n@Pzzz_official \n
URL:https://dempagumi.tokyo/event/2018-03-06_11-pinky_pzzz/
LOCATION:神宮前1-15-2 神宮前115ビル 3F\, 渋谷区\, 東京都\, 150-0001\, Japan
CATEGORIES:Event,Goods
END:VEVENT
END:VCALENDAR