BEGIN:VCALENDAR
VERSION:2.0
PRODID:-//でんぱ組.inc 公式サイト - ECPv4.5.13//NONSGML v1.0//EN
CALSCALE:GREGORIAN
METHOD:PUBLISH
X-WR-CALNAME:でんぱ組.inc 公式サイト
X-ORIGINAL-URL:https://dempagumi.tokyo
X-WR-CALDESC:Events for でんぱ組.inc 公式サイト
BEGIN:VEVENT
DTSTART;VALUE=DATE:20180216
DTEND;VALUE=DATE:20180216
DTSTAMP:20260423T222645
CREATED:20180129T104745Z
LAST-MODIFIED:20180129T105842Z
UID:2360-1518739200-1518825599@dempagumi.tokyo
SUMMARY:成瀬瑛美「JOYSOUND presents『えいカラ2018』@品川」
DESCRIPTION:『成瀬瑛美』が2/16に誕生日を迎えるのを記念して毎年恒例「えいカラ」をFC【でんぱとう】会員限定で開催‼ \n「えいたそ＋カラオケ＝えいカラ🎤」 \nパワーアップした「えいカラ2018」でミラクルハッピーな『えいたそ』の誕生日を盛大にお祝いしましょう✨\n開催をお楽しみに🌟 \n▼日程\n2/16（金）\n【１部】18:00開場 / 18:30開演\n【２部】20:30開場 / 21:00開演 \n▼会場\n品川・J-SQUARE SHINAGAWA\n（東京都港区港南2-5-12 JOYSOUND 品川港南口店）\nhttp://j-square.joysound.com \n▼出演者\n成瀬瑛美 \n▼料金\n各回￥7\,813（税込）\n※ソフトドリンク、スナック代込/記念グッズ付\n※電子チケット手数料として別途324円頂戴致します。 \n▼チケット\nFC【でんぱとう】会員の方のみお申込頂けます。\n≪1次受付≫\n[受付期間]\n1/31（水）18:00～2/1（木）23:00\n[当落確認/手続期間]\n2/5（月）18:00～2/7（木）23:59\n≪2次受付≫\n[受付期間]\n2/5（月）18:00～2/7（木）23:59\n[当落確認/手続期間]\n2/9（土）18:00～2/12（月）23:59\n≪受付URL≫\n【でんぱとう】公式サイト\nhttp://dempatow.dearstage.com/ \n
URL:https://dempagumi.tokyo/event/2018-02-16-eitaso_shinagawa/
LOCATION:港南2-5-12 JOYSOUND 品川港南口店\, 港区\, 東京都\, Japan
CATEGORIES:Event,Fan club
END:VEVENT
END:VCALENDAR