BEGIN:VCALENDAR
VERSION:2.0
PRODID:-//でんぱ組.inc 公式サイト - ECPv4.5.13//NONSGML v1.0//EN
CALSCALE:GREGORIAN
METHOD:PUBLISH
X-WR-CALNAME:でんぱ組.inc 公式サイト
X-ORIGINAL-URL:https://dempagumi.tokyo
X-WR-CALDESC:Events for でんぱ組.inc 公式サイト
BEGIN:VEVENT
DTSTART;VALUE=DATE:20180211
DTEND;VALUE=DATE:20180211
DTSTAMP:20260423T162455
CREATED:20180204T123853Z
LAST-MODIFIED:20180204T123853Z
UID:2451-1518307200-1518393599@dempagumi.tokyo
SUMMARY:古川未鈴・藤咲彩音「東京2020ライブサイト in 2018」にて『でんぱch.♥』公開収録開催
DESCRIPTION:平昌2018冬季大会にあわせて開催される「東京2020ライブサイト in 2018」にて『古川未鈴・藤咲彩音』が毎週月～水にお届けしているラジオ『でんぱch.♥』公開収録を実施決定📻\nどなたでも無料でご覧頂けますので是非この機会にご来場ください🎶 \n会場では大画面での迫力ある観戦や誰でも楽しめる競技体験、人気アーティストのライブ、アスリートがスポーツの魅力を語るトークショー等なども行われていますので併せてお楽しみください🌟\n東京2020大会まであと少し‼みんなで、オリンピック・パラリンピックを楽しみましょう✨ \n▼開催\n2/11（日）14:30～\n※時間はあくまでも予定です \n▼会場\n都立井の頭恩賜公園 西園\n東京都武蔵野市御殿山1丁目18-31 \n▼料金\n無料 \n▼イベントページ\nhttps://tokyo2020.jp/jp/special/pyeongchang-to-tokyo/livesites/tokyo/ \n
URL:https://dempagumi.tokyo/event/2018-02-11-mirin_pinky/
LOCATION:御殿山1丁目18-31\, 武蔵野市\, 東京都\, Japan
CATEGORIES:Event,Radio
END:VEVENT
END:VCALENDAR