BEGIN:VCALENDAR
VERSION:2.0
PRODID:-//でんぱ組.inc 公式サイト - ECPv4.5.13//NONSGML v1.0//EN
CALSCALE:GREGORIAN
METHOD:PUBLISH
X-WR-CALNAME:でんぱ組.inc 公式サイト
X-ORIGINAL-URL:https://dempagumi.tokyo
X-WR-CALDESC:Events for でんぱ組.inc 公式サイト
BEGIN:VEVENT
DTSTART;VALUE=DATE:20190806
DTEND;VALUE=DATE:20190806
DTSTAMP:20260423T191526
CREATED:20190520T041550Z
LAST-MODIFIED:20190710T094337Z
UID:6393-1565049600-1565135999@dempagumi.tokyo
SUMMARY:『でんぱ組.inc 全国ホールツアー  UHHA! YAAA!! TOUR!!! 2019』仙台
DESCRIPTION:新体制初のホールツアー！\nネオ地球に降り立ったでんぱ組.incに、次は何が待ち受けているのか！？！？ \n  \n【タイトル】\nでんぱ組.inc 全国ホールツアー UHHA! YAAA!! TOUR!!! 2019\n  \n[日程・会場]\n◆6月26日(水) 東京・オリンパスホール八王子　THANK YOU! SOLD OUT!!\n18:00 Open / 19:00 Start \n◆7月4日(木) 福岡・福岡市民会館\n18:00 Open / 19:00 Start \n◆7月6日(土) 名古屋・日本特殊陶業市民会館 フォレストホール\n17:00 Open / 18:00 Start \n◆8月6日(火) 仙台・トークネットホール仙台(仙台市民会館)　※5/15発表追加公演\n18:00 Open / 19:00 Start \n◆8月12日(月祝) 札幌・札幌市教育文化会館\n17:00 Open / 18:00 Start \n◆8月24日(土) 金沢・本多の森ホール\n17:00 Open / 18:00 Start \n◆8月28日(水) 大阪・NHK大阪ホール　THANK YOU! SOLD OUT!!\n18:00 Open / 19:00 Start \n  \n＜公式グッズ販売について＞\nライブで定番のＴシャツやタオルはもちろん今回はアロハシャツ&パンツも販売！\nパンフレットにはメンバー直筆メッセージページやとりま東名阪ツアーでのライブ&バックステージ写真、『子♡丑♡寅♡卯♡辰♡巳♡』MV撮影での撮影風景やオフショット写真なども掲載\n各会場ごとの「日付・会場名」入りのモーテルキーホルダーも登場！ \n \n会場ではオフィシャルグッズと一緒に『でんぱ組.inc』の過去アイテム、@NOISE REBOOT商品も販売決定！\nお買い求めがまだだったあの商品が手に入るチャンス！ \n \n \n▼先行販売開始時間(予定)\n \n※先行時間は状況により変動することがございます。予めご了承下さい。 \n  \n◆6/27(木)20:00～DEARSTAGEオンラインストアでの販売も決定！\n▶http://store.dearstage.com\n※DEARSTAGEオンラインストアは準備が整い次第、順次発送いたします。\n※発送指定日は承れません。予めご了承下さい。\n※「【会場別】モーテルキーホルダー」は現時点ではDEARSTAGEオンラインストアでの販売の予定はございません。\n※各会場にて購入の際は、１部商品で購入制限を設けさせていただいております。 \n  \nヴィレッジヴァンガードコラボグッズ発売＆出張VV決定!!!\n \n▼VVコラボグッズ\n・UHHA! YAAA!! TOUR!!! 2019 ランダムテレホンカード(全14種)\n2\,000円(税込) \n・UHHA! YAAA!! TOUR!!! 2019 ランダム缶バッジ(全12種)\n500円(税込) \n・「子♡丑♡寅♡卯♡辰♡巳♡」ジャケットB3ポスター(1種)\n600円(税込) \n  \n▼公式グッズ\n・CD「子♡丑♡寅♡卯♡辰♡巳♡」+ZINE+ランダムチェキ（原宿ストリートスナップ衣装ver）\n2\,700円(税込)\n \n  \n・CD「子♡丑♡寅♡卯♡辰♡巳♡」単品\n1\,000円(税込) \n【CD＆ZINE詳細】\n▶http://www.toysfactory.co.jp/artist/dempagumi/news/detail/3605 \n  \n＜出張VV 会場販売＞\n6月26日(水) 東京・オリンパスホール八王子\n7月6日(土) 名古屋・日本特殊陶業市民会館 フォレストホール\n8月28日(水) 大阪・NHK大阪ホール \nヴィレヴァンコラボの詳細はこちら！！\nhttps://www.village-v.co.jp/news/item/4655 \n  \n＜公演チケット＞\nチケット料金：全席指定 7\,560円(税込) \n各プレイガイドにて一般発売中 \n \n \n
URL:https://dempagumi.tokyo/event/2019-08-06-live/
CATEGORIES:Live
END:VEVENT
END:VCALENDAR