BEGIN:VCALENDAR
VERSION:2.0
PRODID:-//でんぱ組.inc 公式サイト - ECPv4.5.13//NONSGML v1.0//EN
CALSCALE:GREGORIAN
METHOD:PUBLISH
X-WR-CALNAME:でんぱ組.inc 公式サイト
X-ORIGINAL-URL:https://dempagumi.tokyo
X-WR-CALDESC:Events for でんぱ組.inc 公式サイト
BEGIN:VEVENT
DTSTART;VALUE=DATE:20190601
DTEND;VALUE=DATE:20190601
DTSTAMP:20260423T213833
CREATED:20190515T063655Z
LAST-MODIFIED:20190520T040045Z
UID:6377-1559347200-1559433599@dempagumi.tokyo
SUMMARY:根本凪1st写真集『スピカ』発売記念イベント@書泉ブックタワー（秋葉原）
DESCRIPTION:根本凪、待望の1st写真集がついに発売！\nタイで撮影された“ねも”の魅力がぎゅっと詰まった1冊！\nグラビアはもちろん、ロングインタビューに加え、10年後の“根本凪”に向けた手紙など、充実の内容です！\n是非お買い求めください！ \n  \n根本凪ファースト写真集『スピカ』発売記念イベント@書泉ブックタワー（秋葉原） \n詳細はこちらをご覧ください！\nhttps://www.shosen.co.jp/event/98781/ \n  \n▼開催\n2019年06月1日(土) 17:00～ \n  \n▼会場\n書泉ブックタワー9F（秋葉原） \n  \n▼発券場所 / 発券日時\n書泉ブックタワー9F（秋葉原） \n  \n【店頭受付】\n2019年05月18日(土)10:00～ \n【電話・メール】\n2019年05月18日(土)13:00～05月24日(金)21:00 \n  \n【商品情報】\n対象商品：根本凪ファースト写真集『スピカ』\n定価：3\,240円（税込）\n発売日：2019年5月27日\nISBN：978-4-09-682296-8\n発売：小学館 \n
URL:https://dempagumi.tokyo/event/2019-06-01_nagi/
CATEGORIES:Event
END:VEVENT
END:VCALENDAR